BEGIN:VCALENDAR
VERSION:2.0
PRODID:-//ChamberMaster//Event Calendar 2.0//EN
METHOD:PUBLISH
X-PUBLISHED-TTL:P1H
REFRESH-INTERVAL:P1H
CALSCALE:GREGORIAN
BEGIN:VTIMEZONE
TZID:America/Chicago
BEGIN:DAYLIGHT
RRULE:FREQ=YEARLY;BYMONTH=3;BYDAY=2SU
DTSTART:20070101T000000
TZOFFSETFROM:-0600
TZOFFSETTO:-0500
TZNAME:Central Daylight Time
END:DAYLIGHT
BEGIN:STANDARD
RRULE:FREQ=YEARLY;BYMONTH=11;BYDAY=1SU
DTSTART:20070101T000000
TZOFFSETFROM:-0500
TZOFFSETTO:-0600
TZNAME:Central Standard Time
END:STANDARD
END:VTIMEZONE
BEGIN:VEVENT
DTSTART;VALUE=DATE:20260331
DTEND;VALUE=DATE:20260425
TRANSP:TRANSPARENT
X-MICROSOFT-CDO-ALLDAYEVENT:TRUE
SUMMARY:April Gallery Show
DESCRIPTION:Students from Southeastern Community College share their artwork in a variety of media during the April gallery show at the Art CenterMeet the artists during the artist reception from 5 to 8 PM on Friday\, April 3.Both the reception and the month-long show are free and open to the public\; cash bar.\n\n\nFor more information\, follow the Art Center of Burlington on Facebook or visit:\nbtownart.com
X-ALT-DESC;FMTTYPE=text/html:<!DOCTYPE html><html><head><title></title></head><body aria-disabled="false"><p style="text-align: left\;">Students from Southeastern Community College share their artwork in a variety of media during the April gallery show at the Art Center</p><p style="text-align: left\;">Meet the artists during the artist reception from <strong fr-original-style="" style="font-weight: 700\;">5 to 8 PM on Friday\, April 3</strong>.</p><p style="text-align: left\;">Both the reception and the month-long show are free and open to the public\; cash bar.<br style="mso-special-character:line-break\;"><!--[if !supportLineBreakNewLine]--><!--[endif]--><br style="mso-special-character:line-break\;"><!--[if !supportLineBreakNewLine]--><br style="mso-special-character:line-break\;"><!--[endif]--><!--[endif]--><!--[endif]-->For more information\, follow the <span style="color: rgb(84\, 172\, 210)\;"><a fr-original-style="" href="https://www.facebook.com/burlingtonartcenter" rel="noopener noreferrer" style="user-select: auto\; color: inherit\;" target="_blank">Art Center of Burlington</a></span> on Facebook or visit:<br><span style="color: rgb(84\, 172\, 210)\;"><a fr-original-style="" href="http://btownart.com" rel="noopener noreferrer" style="user-select: auto\; color: inherit\;" target="_blank">btownart.com</a></span><br>&nbsp\;</p><p><span style="font-size: 18px\; font-family: Georgia\, serif\;"><br><br></span></p><p><br></p></body></html>
LOCATION:301 Jefferson St Burlington IA 52601-5333
UID:e.2001.1441113
SEQUENCE:3
DTSTAMP:20260423T162235Z
URL:https://members.greaterburlington.com/eventcalendar/Details/april-gallery-show-1706334?sourceTypeId=Hub
END:VEVENT
END:VCALENDAR
