BEGIN:VCALENDAR
VERSION:2.0
PRODID:-//ChamberMaster//Event Calendar 2.0//EN
METHOD:PUBLISH
X-PUBLISHED-TTL:P1H
REFRESH-INTERVAL:P1H
CALSCALE:GREGORIAN
BEGIN:VTIMEZONE
TZID:America/Chicago
BEGIN:DAYLIGHT
RRULE:FREQ=YEARLY;BYMONTH=3;BYDAY=2SU
DTSTART:20070101T000000
TZOFFSETFROM:-0600
TZOFFSETTO:-0500
TZNAME:Central Daylight Time
END:DAYLIGHT
BEGIN:STANDARD
RRULE:FREQ=YEARLY;BYMONTH=11;BYDAY=1SU
DTSTART:20070101T000000
TZOFFSETFROM:-0500
TZOFFSETTO:-0600
TZNAME:Central Standard Time
END:STANDARD
END:VTIMEZONE
BEGIN:VEVENT
DTSTART;TZID=America/Chicago:20260429T173000
DTEND;TZID=America/Chicago:20260429T193000
X-MICROSOFT-CDO-ALLDAYEVENT:FALSE
SUMMARY:Community Baby Shower
DESCRIPTION:New parents & parents-to-be are invited to enjoy a free dinner and baby-themed give-aways while learning important information about sleep safety\, car seat safety\, WIC\, parental support resources and much more   plus enter a drawing to win a free car seat or pack-n-play. Register via the Facebook event or contact Arin Jones at arinj@iastate.edu.For more information\, follow Quad County Community Partnerships for Protecting Children on Facebook.
X-ALT-DESC;FMTTYPE=text/html:<!DOCTYPE html><html><head><title></title></head><body aria-disabled="false"><p>New parents &amp\; parents-to-be are invited to enjoy a free dinner and baby-themed give-aways while learning important information about sleep safety\, car seat safety\, WIC\, parental support resources and much more &ndash\; plus enter a drawing to win a free car seat or pack-n-play.&nbsp\;</p><p>Register via the <a fr-original-style="" href="https://www.facebook.com/events/953355277191263" rel="noopener noreferrer" style="user-select: auto\;" target="_blank"><span style="color: rgb(44\, 130\, 201)\;">Facebook event</span></a> or contact Arin Jones at <a fr-original-style="" href="mailto:arinj@iastate.edu" style="user-select: auto\;">arinj@iastate.edu</a>.</p><p>For more information\, follow <a fr-original-style="" href="https://www.facebook.com/quadcountycppc" rel="noopener noreferrer" style="user-select: auto\;" target="_blank"><span style="color: rgb(44\, 130\, 201)\;">Quad County Community Partnerships for Protecting Children</span></a> on Facebook.<br style="mso-special-character:line-break\;"><!--[if !supportLineBreakNewLine]--><br style="mso-special-character:line-break\;"><!--[endif]--></p></body></html>
LOCATION:210 Court St Burlington IA 52601-5241
UID:e.2001.1449487
SEQUENCE:3
DTSTAMP:20260423T163324Z
URL:https://members.greaterburlington.com/eventcalendar/Details/community-baby-shower-1716940?sourceTypeId=Hub
END:VEVENT
END:VCALENDAR
