BEGIN:VCALENDAR
VERSION:2.0
PRODID:-//ChamberMaster//Event Calendar 2.0//EN
METHOD:PUBLISH
X-PUBLISHED-TTL:P1H
REFRESH-INTERVAL:P1H
CALSCALE:GREGORIAN
BEGIN:VTIMEZONE
TZID:America/Chicago
BEGIN:DAYLIGHT
RRULE:FREQ=YEARLY;BYMONTH=3;BYDAY=2SU
DTSTART:20070101T000000
TZOFFSETFROM:-0600
TZOFFSETTO:-0500
TZNAME:Central Daylight Time
END:DAYLIGHT
BEGIN:STANDARD
RRULE:FREQ=YEARLY;BYMONTH=11;BYDAY=1SU
DTSTART:20070101T000000
TZOFFSETFROM:-0500
TZOFFSETTO:-0600
TZNAME:Central Standard Time
END:STANDARD
END:VTIMEZONE
BEGIN:VEVENT
DTSTART;TZID=America/Chicago:20270219T080000
DTEND;TZID=America/Chicago:20270219T090000
X-MICROSOFT-CDO-ALLDAYEVENT:FALSE
SUMMARY:February 2027 Friday Forum
DESCRIPTION:Friday Forums provide Chamber members with a direct opportunity to engage with elected and public officials through timely\, structured question-and-answer sessions. These Chamber member-exclusive forums focus on issues impacting the Greater Burlington business community and offer valuable insight into public policy and regional priorities.\n\nThe February 2027 Friday Forum will feature local topics and leaders.
X-ALT-DESC;FMTTYPE=text/html:Friday Forums provide Chamber members with a direct opportunity to engage with elected and public officials through timely\, structured question-and-answer sessions. These Chamber member-exclusive forums focus on issues impacting the Greater Burlington business community and offer valuable insight into public policy and regional priorities.\n\nThe February 2027 Friday Forum will feature local topics and leaders.
LOCATION:610 N. 4th Street Suite 200 Burlington IA 52601
UID:e.2001.1442444
SEQUENCE:3
DTSTAMP:20260423T162425Z
URL:https://members.greaterburlington.com/eventcalendar/Details/february-2027-friday-forum-1708443?sourceTypeId=Hub
END:VEVENT
END:VCALENDAR
