BEGIN:VCALENDAR
VERSION:2.0
PRODID:-//ChamberMaster//Event Calendar 2.0//EN
METHOD:PUBLISH
X-PUBLISHED-TTL:P1H
REFRESH-INTERVAL:P1H
CALSCALE:GREGORIAN
BEGIN:VTIMEZONE
TZID:America/Chicago
BEGIN:DAYLIGHT
RRULE:FREQ=YEARLY;BYMONTH=3;BYDAY=2SU
DTSTART:20070101T000000
TZOFFSETFROM:-0600
TZOFFSETTO:-0500
TZNAME:Central Daylight Time
END:DAYLIGHT
BEGIN:STANDARD
RRULE:FREQ=YEARLY;BYMONTH=11;BYDAY=1SU
DTSTART:20070101T000000
TZOFFSETFROM:-0500
TZOFFSETTO:-0600
TZNAME:Central Standard Time
END:STANDARD
END:VTIMEZONE
BEGIN:VEVENT
DTSTART;TZID=America/Chicago:20260419T140000
DTEND;TZID=America/Chicago:20260419T160000
X-MICROSOFT-CDO-ALLDAYEVENT:FALSE
SUMMARY:Free Movie: The Scarlet and the Black
DESCRIPTION:Catch Gregory peck\, Christopher Plummer and Sir John Gielgud as Pope Pius XII in the international co-production The Scarlet and the Black\, based on the book The Scarlet Pimpernel of the Vatican by J.P. Gallagher.The film tells the story of real-life Irish Catholic priest Monsignor Hugh O'Flaherty\, who saved thousands of Jews and allied POWs during WWII.This free screening is sponsored by Southeastern Community College.Full concessions\, including wine and beer\, are available at the Capitol.\n\n\nFor more information\, follow the Capitol on Facebook or visit:burlingtoncapitoltheater.com
X-ALT-DESC;FMTTYPE=text/html:<!DOCTYPE html><html><head><title></title></head><body aria-disabled="false"><p>Catch Gregory peck\, Christopher Plummer and Sir John Gielgud as Pope Pius XII in the international co-production <em>The Scarlet and the Black</em>\, based on the book <em>The Scarlet Pimpernel of the Vatican</em> by J.P. Gallagher.</p><p>The film tells the story of real-life Irish Catholic priest Monsignor Hugh O&#39\;Flaherty\, who saved thousands of Jews and allied POWs during WWII.</p><p>This <strong fr-original-style="" style="font-weight: 700\;">free screening</strong> is sponsored by Southeastern Community College.</p><p>Full concessions\, including wine and beer\, are available at the Capitol.<br style="mso-special-character:line-break\;"><!--[if !supportLineBreakNewLine]--><br style="mso-special-character:line-break\;"><!--[endif]--><br>For more information\, follow the <a fr-original-style="" href="https://www.facebook.com/BtownCapitol" rel="noopener noreferrer" style="user-select: auto\;" target="_blank"><span style="color: rgb(61\, 142\, 185)\;">Capitol</span></a> on Facebook or visit:</p><p><span style="color: rgb(84\, 172\, 210)\;"><a fr-original-style="" href="http://burlingtoncapitoltheater.com" rel="noopener noreferrer" style="user-select: auto\; color: inherit\;" target="_blank">burlingtoncapitoltheater.com</a></span></p></body></html>
LOCATION:211 N 3rd St Burlington IA 52601
UID:e.2001.1443783
SEQUENCE:3
DTSTAMP:20260423T165216Z
URL:https://members.greaterburlington.com/eventcalendar/Details/free-movie-the-scarlet-and-the-black-1710029?sourceTypeId=Hub
END:VEVENT
END:VCALENDAR
