BEGIN:VCALENDAR
VERSION:2.0
PRODID:-//ChamberMaster//Event Calendar 2.0//EN
METHOD:PUBLISH
X-PUBLISHED-TTL:P1H
REFRESH-INTERVAL:P1H
CALSCALE:GREGORIAN
BEGIN:VTIMEZONE
TZID:America/Chicago
BEGIN:DAYLIGHT
RRULE:FREQ=YEARLY;BYMONTH=3;BYDAY=2SU
DTSTART:20070101T000000
TZOFFSETFROM:-0600
TZOFFSETTO:-0500
TZNAME:Central Daylight Time
END:DAYLIGHT
BEGIN:STANDARD
RRULE:FREQ=YEARLY;BYMONTH=11;BYDAY=1SU
DTSTART:20070101T000000
TZOFFSETFROM:-0500
TZOFFSETTO:-0600
TZNAME:Central Standard Time
END:STANDARD
END:VTIMEZONE
BEGIN:VEVENT
DTSTART;TZID=America/Chicago:20260425T100000
DTEND;TZID=America/Chicago:20260425T160000
X-MICROSOFT-CDO-ALLDAYEVENT:FALSE
SUMMARY:Independent Book Store Day
DESCRIPTION:Meet local artist Annie Guldberg\, get a free tote with any purchase\, register to win a $25 gift certificate ... and there's cake. What more do you need to know? Check out Burlington's locally owned bookstore on Independent Bookstore Day!For more information\, follow Burlington By the Book on Facebook.
X-ALT-DESC;FMTTYPE=text/html:<!DOCTYPE html><html><head><title></title></head><body aria-disabled="false"><p style="text-align: left\;">Meet local artist Annie Guldberg\, get a free tote with any purchase\, register to win a $25 gift certificate ... and there&rsquo\;s cake. What more do you need to know?&nbsp\;</p><p style="text-align: left\;">Check out Burlington&rsquo\;s locally owned bookstore on Independent Bookstore Day!</p><p style="text-align: left\;">For more information\, follow <a fr-original-style="" href="https://www.facebook.com/profile.php?id=100064490032677" rel="noopener noreferrer" style="user-select: auto\;" target="_blank"><span style="color: rgb(44\, 130\, 201)\;">Burlington By the Book</span></a> on Facebook.<br><br></p></body></html>
LOCATION:301 Jefferson St Burlington IA 52601-5333
UID:e.2001.1448495
SEQUENCE:3
DTSTAMP:20260423T164230Z
URL:https://members.greaterburlington.com/eventcalendar/Details/independent-book-store-day-1715494?sourceTypeId=Hub
END:VEVENT
END:VCALENDAR
