BEGIN:VCALENDAR
VERSION:2.0
PRODID:-//ChamberMaster//Event Calendar 2.0//EN
METHOD:PUBLISH
X-PUBLISHED-TTL:P1H
REFRESH-INTERVAL:P1H
CALSCALE:GREGORIAN
BEGIN:VTIMEZONE
TZID:America/Chicago
BEGIN:DAYLIGHT
RRULE:FREQ=YEARLY;BYMONTH=3;BYDAY=2SU
DTSTART:20070101T000000
TZOFFSETFROM:-0600
TZOFFSETTO:-0500
TZNAME:Central Daylight Time
END:DAYLIGHT
BEGIN:STANDARD
RRULE:FREQ=YEARLY;BYMONTH=11;BYDAY=1SU
DTSTART:20070101T000000
TZOFFSETFROM:-0500
TZOFFSETTO:-0600
TZNAME:Central Standard Time
END:STANDARD
END:VTIMEZONE
BEGIN:VEVENT
DTSTART;TZID=America/Chicago:20261016T170000
DTEND;TZID=America/Chicago:20261016T220000
X-MICROSOFT-CDO-ALLDAYEVENT:FALSE
SUMMARY:Jefferson Street Cruise Night
DESCRIPTION:Shop\, dine\, and reminisce in downtown Burlington as classic cars and hot rods cruise the traditional "strip" through the heart of the historic commercial district.For more information\, follow the Burlington Police Department on Facebook.
X-ALT-DESC;FMTTYPE=text/html:<!DOCTYPE html><html><head><title></title></head><body aria-disabled="false"><p>Shop\, dine\, and reminisce in downtown Burlington as classic cars and hot rods cruise the traditional &quot\;strip&quot\; through the heart of the historic commercial district.</p><p>For more information\, follow the <a fr-original-style="" href="https://www.facebook.com/BurlingtonIowaPolice" rel="noopener noreferrer" style="user-select: auto\;" target="_blank"><span style="color: rgb(44\, 130\, 201)\;">Burlington Police Department</span></a> on Facebook.</p><div><div><br></div></div><div><br></div><p><br style="mso-special-character:line-break\;"><!--[if !supportLineBreakNewLine]--><br style="mso-special-character:line-break\;"><!--[endif]--></p></body></html>
LOCATION:Burlington IA 52601
UID:e.2001.1440437
SEQUENCE:3
DTSTAMP:20260423T164522Z
URL:https://members.greaterburlington.com/eventcalendar/Details/jefferson-street-cruise-night-1705288?sourceTypeId=Hub
END:VEVENT
END:VCALENDAR
