BEGIN:VCALENDAR
VERSION:2.0
PRODID:-//ChamberMaster//Event Calendar 2.0//EN
METHOD:PUBLISH
X-PUBLISHED-TTL:P1H
REFRESH-INTERVAL:P1H
CALSCALE:GREGORIAN
BEGIN:VTIMEZONE
TZID:America/Chicago
BEGIN:DAYLIGHT
RRULE:FREQ=YEARLY;BYMONTH=3;BYDAY=2SU
DTSTART:20070101T000000
TZOFFSETFROM:-0600
TZOFFSETTO:-0500
TZNAME:Central Daylight Time
END:DAYLIGHT
BEGIN:STANDARD
RRULE:FREQ=YEARLY;BYMONTH=11;BYDAY=1SU
DTSTART:20070101T000000
TZOFFSETFROM:-0500
TZOFFSETTO:-0600
TZNAME:Central Standard Time
END:STANDARD
END:VTIMEZONE
BEGIN:VEVENT
DTSTART;TZID=America/Chicago:20260502T110000
DTEND;TZID=America/Chicago:20260502T130000
X-MICROSOFT-CDO-ALLDAYEVENT:FALSE
SUMMARY:KGRS 50th Anniversary Party at Billy Sims BBQ
DESCRIPTION:KGRS is celebrating our 50th Anniversary with another party\, and this one has a big VIP guest! Come by our live broadcast at Billy Sims BBQ and meet former NFL star (and Billy Sims BBQ owner) Billy Sims himself!For more information\, visit:thenewmix.com
X-ALT-DESC;FMTTYPE=text/html:<!DOCTYPE html><html><head><title></title></head><body aria-disabled="false"><p>KGRS is celebrating our 50th Anniversary with another party\, and this one has a big VIP guest! Come by our live broadcast at Billy Sims BBQ and meet former NFL star (and Billy Sims BBQ owner) Billy Sims himself!</p><p>For more information\, visit<a fr-original-style="" href="http://thenewmix.com" rel="noopener noreferrer" style="user-select: auto\;" target="_blank"><span style="color: rgb(44\, 130\, 201)\;">:</span></a></p><p><a fr-original-style="" href="http://thenewmix.com" rel="noopener noreferrer" style="user-select: auto\;" target="_blank"><span style="color: rgb(44\, 130\, 201)\;">thenewmix.com</span></a></p></body></html>
LOCATION:1115 N Roosevelt Ave Burlington IA 52601
UID:e.2001.1445224
SEQUENCE:3
DTSTAMP:20260423T164616Z
URL:https://members.greaterburlington.com/eventcalendar/Details/kgrs-50th-anniversary-party-at-billy-sims-bbq-1711730?sourceTypeId=Hub
END:VEVENT
END:VCALENDAR
