BEGIN:VCALENDAR
VERSION:2.0
PRODID:-//ChamberMaster//Event Calendar 2.0//EN
METHOD:PUBLISH
X-PUBLISHED-TTL:P1H
REFRESH-INTERVAL:P1H
CALSCALE:GREGORIAN
BEGIN:VTIMEZONE
TZID:America/Chicago
BEGIN:DAYLIGHT
RRULE:FREQ=YEARLY;BYMONTH=3;BYDAY=2SU
DTSTART:20070101T000000
TZOFFSETFROM:-0600
TZOFFSETTO:-0500
TZNAME:Central Daylight Time
END:DAYLIGHT
BEGIN:STANDARD
RRULE:FREQ=YEARLY;BYMONTH=11;BYDAY=1SU
DTSTART:20070101T000000
TZOFFSETFROM:-0500
TZOFFSETTO:-0600
TZNAME:Central Standard Time
END:STANDARD
END:VTIMEZONE
BEGIN:VEVENT
DTSTART;TZID=America/Chicago:20260424T130000
DTEND;TZID=America/Chicago:20260424T210000
X-MICROSOFT-CDO-ALLDAYEVENT:FALSE
SUMMARY:KGRS 50th Anniversary Party @ Burlington Black Water Mini Golf
DESCRIPTION:The New Mix 107.3 KGRS is celebrating our 50th anniversary\, and we're teaming up with area businesses to do it!Join us at Burlington BlackWater Mini Golf for a great deal... all day long\, it'll only cost $0.50 cents to play! That's right\, FIFTY CENTS to play a full round of mini golf!We'll be broadcasting live from 5pm to 7pm\, so swing by\, say hi\, and aim for a hole-in-one!
X-ALT-DESC;FMTTYPE=text/html:<!DOCTYPE html><html><head><title></title></head><body aria-disabled="false"><p>The New Mix 107.3 KGRS is celebrating our 50th anniversary\, and we&#39\;re teaming up with area businesses to do it!</p><p>Join us at Burlington BlackWater Mini Golf for a great deal... all day long\, it&#39\;ll only cost $0.50 cents to play! That&#39\;s right\, FIFTY CENTS to play a full round of mini golf!</p><p>We&#39\;ll be broadcasting live from 5pm to 7pm\, so swing by\, say hi\, and aim for a hole-in-one!&nbsp\;</p></body></html>
LOCATION:
UID:e.2001.1440548
SEQUENCE:3
DTSTAMP:20260423T164810Z
URL:https://members.greaterburlington.com/eventcalendar/Details/kgrs-50th-anniversary-party-burlington-black-water-mini-golf-1705540?sourceTypeId=Hub
END:VEVENT
END:VCALENDAR
