BEGIN:VCALENDAR
VERSION:2.0
PRODID:-//ChamberMaster//Event Calendar 2.0//EN
METHOD:PUBLISH
X-PUBLISHED-TTL:P1H
REFRESH-INTERVAL:P1H
CALSCALE:GREGORIAN
BEGIN:VTIMEZONE
TZID:America/Chicago
BEGIN:DAYLIGHT
RRULE:FREQ=YEARLY;BYMONTH=3;BYDAY=2SU
DTSTART:20070101T000000
TZOFFSETFROM:-0600
TZOFFSETTO:-0500
TZNAME:Central Daylight Time
END:DAYLIGHT
BEGIN:STANDARD
RRULE:FREQ=YEARLY;BYMONTH=11;BYDAY=1SU
DTSTART:20070101T000000
TZOFFSETFROM:-0500
TZOFFSETTO:-0600
TZNAME:Central Standard Time
END:STANDARD
END:VTIMEZONE
BEGIN:VEVENT
DTSTART;TZID=America/Chicago:20260411T110000
DTEND;TZID=America/Chicago:20260411T130000
X-MICROSOFT-CDO-ALLDAYEVENT:FALSE
SUMMARY:KGRS 50th Anniversary Party @ Jerry's Main Lunch
DESCRIPTION:The New Mix 107.3 KGRS is celebrating our 50th anniversary\, and we're teaming up with area businesses to do it!Join us in the parking lot of Jerry's Main Lunch for a barbeque! Get a box lunch (burger\, chips\, and a drink) for just $5\, plus play PLINKO to win prizes!We'll be broadcasting live during the event\, so swing by\, say hi\, and grab some lunch! Then be sure to congratulate the staff of Jerry's for their 80th Anniversary!
X-ALT-DESC;FMTTYPE=text/html:<!DOCTYPE html><html><head><title></title></head><body aria-disabled="false"><p>The New Mix 107.3 KGRS is celebrating our 50th anniversary\, and we&#39\;re teaming up with area businesses to do it!</p><p>Join us in the parking lot of Jerry&#39\;s Main Lunch for a barbeque! Get a box lunch (burger\, chips\, and a drink) for just $5\, plus play PLINKO to win prizes!</p><p>We&#39\;ll be broadcasting live during the event\, so swing by\, say hi\, and grab some lunch! Then be sure to congratulate the staff of Jerry&#39\;s for their 80th Anniversary!&nbsp\;</p><p>&nbsp\;</p></body></html>
LOCATION:
UID:e.2001.1440538
SEQUENCE:3
DTSTAMP:20260423T164647Z
URL:https://members.greaterburlington.com/eventcalendar/Details/kgrs-50th-anniversary-party-jerry-s-main-lunch-1705530?sourceTypeId=Hub
END:VEVENT
END:VCALENDAR
