BEGIN:VCALENDAR
VERSION:2.0
PRODID:-//ChamberMaster//Event Calendar 2.0//EN
METHOD:PUBLISH
X-PUBLISHED-TTL:P1H
REFRESH-INTERVAL:P1H
CALSCALE:GREGORIAN
BEGIN:VTIMEZONE
TZID:America/Chicago
BEGIN:DAYLIGHT
RRULE:FREQ=YEARLY;BYMONTH=3;BYDAY=2SU
DTSTART:20070101T000000
TZOFFSETFROM:-0600
TZOFFSETTO:-0500
TZNAME:Central Daylight Time
END:DAYLIGHT
BEGIN:STANDARD
RRULE:FREQ=YEARLY;BYMONTH=11;BYDAY=1SU
DTSTART:20070101T000000
TZOFFSETFROM:-0500
TZOFFSETTO:-0600
TZNAME:Central Standard Time
END:STANDARD
END:VTIMEZONE
BEGIN:VEVENT
DTSTART;TZID=America/Chicago:20260428T120000
DTEND;TZID=America/Chicago:20260428T160000
X-MICROSOFT-CDO-ALLDAYEVENT:FALSE
SUMMARY:KGRS 50th Anniversary Show
DESCRIPTION:We're celebrating 50 years of KGRS with a special four-hour show that combines our current on-air personalities with some of your favorite voices from the past! Tune in on Tuesday\, April 28th from noon to 4 PM for our 50th Anniversary Special\, as we relive the past by counting down the Top 50 songs from the past 50 years! Brought to you by Greater Burlington Partnership\, Standard of Beaverdale\, Young House\, RonDavoo Pizza\, and USG!For more information\, visit:thenewmix.com
X-ALT-DESC;FMTTYPE=text/html:<!DOCTYPE html><html><head><title></title></head><body aria-disabled="false"><p><style type="text/css"><!--td {border: 1px solid #cccccc\;}br {mso-data-placement:same-cell\;}--></style><style type="text/css"><!--td {border: 1px solid #cccccc\;}br {mso-data-placement:same-cell\;}--></style>We&#39\;re celebrating 50 years of KGRS with a special four-hour show that combines our current on-air personalities with some of your favorite voices from the past! Tune in on Tuesday\, April 28th from noon to 4 PM for our 50th Anniversary Special\, as we relive the past by counting down the Top 50 songs from the past 50 years!&nbsp\;</p><p>Brought to you by Greater Burlington Partnership\, Standard of Beaverdale\, Young House\, RonDavoo Pizza\, and USG!</p><p>For more information\, visit:</p><p><a fr-original-style="" href="http://thenewmix.com" rel="noopener noreferrer" style="user-select: auto\;" target="_blank"><span style="color: rgb(44\, 130\, 201)\;">thenewmix.com</span></a></p></body></html>
LOCATION:
UID:e.2001.1445214
SEQUENCE:3
DTSTAMP:20260423T164311Z
URL:https://members.greaterburlington.com/eventcalendar/Details/kgrs-50th-anniversary-show-1711720?sourceTypeId=Hub
END:VEVENT
END:VCALENDAR
