BEGIN:VCALENDAR
VERSION:2.0
PRODID:-//ChamberMaster//Event Calendar 2.0//EN
METHOD:PUBLISH
X-PUBLISHED-TTL:P1H
REFRESH-INTERVAL:P1H
CALSCALE:GREGORIAN
BEGIN:VTIMEZONE
TZID:America/Chicago
BEGIN:DAYLIGHT
RRULE:FREQ=YEARLY;BYMONTH=3;BYDAY=2SU
DTSTART:20070101T000000
TZOFFSETFROM:-0600
TZOFFSETTO:-0500
TZNAME:Central Daylight Time
END:DAYLIGHT
BEGIN:STANDARD
RRULE:FREQ=YEARLY;BYMONTH=11;BYDAY=1SU
DTSTART:20070101T000000
TZOFFSETFROM:-0500
TZOFFSETTO:-0600
TZNAME:Central Standard Time
END:STANDARD
END:VTIMEZONE
BEGIN:VEVENT
DTSTART;TZID=America/Chicago:20260606T170000
DTEND;TZID=America/Chicago:20260606T220000
X-MICROSOFT-CDO-ALLDAYEVENT:FALSE
SUMMARY:MLRA Super Late Model Dirt Series
DESCRIPTION:See the stars of the Midwest Late Model Racing Association take on Southeast Iowa's Premier Place to Race!Gates open at 5 PM\; hot laps at 6:30 PM and racing follows.Grandstand admission for this event is $20\; kids age 10 and under admitted free with a paying adult. Reserved seating is also available.For more information\, follow 34 Raceway on Facebook or visit:34raceway.com
X-ALT-DESC;FMTTYPE=text/html:<!DOCTYPE html><html><head><title></title></head><body aria-disabled="false"><p style="text-align: left\;">See the stars of the Midwest Late Model Racing Association take on Southeast Iowa&#39\;s Premier Place to Race!</p><p style="text-align: left\;">Gates open at 5 PM\; hot laps at 6:30 PM and racing follows.</p><p style="text-align: left\;">Grandstand admission for this event is $20\; kids age 10 and under admitted free with a paying adult. Reserved seating is also available.</p><p style="text-align: left\;">For more information\, follow <a fr-original-style="" href="http://facebook.com/34raceway" rel="noopener noreferrer" style="user-select: auto\;" target="_blank"><span style="color: rgb(61\, 142\, 185)\;">34 Raceway</span></a> on Facebook or visit:</p><p><span style="color: rgb(61\, 142\, 185)\;"><a fr-original-style="" href="http://34raceway.com" rel="noopener noreferrer" style="user-select: auto\; color: inherit\;" target="_blank">34raceway.com</a></span></p></body></html>
LOCATION:PO Box 293 Middletown IA 52638
UID:e.2001.1445768
SEQUENCE:3
DTSTAMP:20260423T164139Z
URL:https://members.greaterburlington.com/eventcalendar/Details/mlra-super-late-model-dirt-series-1712421?sourceTypeId=Hub
END:VEVENT
END:VCALENDAR
