BEGIN:VCALENDAR
VERSION:2.0
PRODID:-//ChamberMaster//Event Calendar 2.0//EN
METHOD:PUBLISH
X-PUBLISHED-TTL:P1H
REFRESH-INTERVAL:P1H
CALSCALE:GREGORIAN
BEGIN:VTIMEZONE
TZID:America/Chicago
BEGIN:DAYLIGHT
RRULE:FREQ=YEARLY;BYMONTH=3;BYDAY=2SU
DTSTART:20070101T000000
TZOFFSETFROM:-0600
TZOFFSETTO:-0500
TZNAME:Central Daylight Time
END:DAYLIGHT
BEGIN:STANDARD
RRULE:FREQ=YEARLY;BYMONTH=11;BYDAY=1SU
DTSTART:20070101T000000
TZOFFSETFROM:-0500
TZOFFSETTO:-0600
TZNAME:Central Standard Time
END:STANDARD
END:VTIMEZONE
BEGIN:VEVENT
DTSTART;TZID=America/Chicago:20241231T220000
DTEND;TZID=America/Chicago:20241231T235500
X-MICROSOFT-CDO-ALLDAYEVENT:FALSE
SUMMARY:New Year's Eve Ball
DESCRIPTION:Don't miss the big NYE event on the Burlington riverfront! Burlington Pride presents Cokeena and all her closest friends putting on a fabulous show   and hosting the best NYE party in town. VIP tables of 8 are $160 (includes meet & greet\, photo op and champagne toast at midnight)\; general admission just $15. Age 21 and over.\n\n\nThis is an adult show - attendees must be age 21 or over.\nFor more information\, follow Burlington Riverfront Entertainment on Facebook or visit:\n\nburlingtonriverfront.org
X-ALT-DESC;FMTTYPE=text/html:<!DOCTYPE html><html><head><title></title></head><body aria-disabled="false"><p style="text-align: left\;">Don&rsquo\;t miss the big NYE event on the Burlington riverfront! Burlington Pride presents Cokeena and all her closest friends putting on a fabulous show &ndash\; and hosting the best NYE party in town. VIP tables of 8 are $160 (includes meet &amp\; greet\, photo op and champagne toast at midnight)\; general admission just $15. Age 21 and over.<br style="mso-special-character:line-break\;"><!--[if !supportLineBreakNewLine]--><br style="mso-special-character:line-break\;"><!--[endif]--><br>This is an adult show - attendees must be age 21 or over.</p><div><br></div><div>For more information\, follow <a fr-original-style="" href="https://www.facebook.com/burlingtonriverfrontentertainment" rel="noopener noreferrer" style="user-select: auto\;" target="_blank"><span style="color: rgb(84\, 172\, 210)\;">Burlington Riverfront Entertainment</span></a> on Facebook or visit:<br><br><span style="color: rgb(84\, 172\, 210)\;"><a fr-original-style="" href="http://burlingtonriverfront.org" rel="noopener noreferrer" style="user-select: auto\; color: inherit\;" target="_blank">burlingtonriverfront.org</a></span></div></body></html>
LOCATION:200 North Front St Burlington IA 52601
UID:e.2001.1087547
SEQUENCE:3
DTSTAMP:20260424T131732Z
URL:https://members.greaterburlington.com/eventcalendar/Details/new-year-s-eve-ball-1254420?sourceTypeId=Hub
END:VEVENT
END:VCALENDAR
