BEGIN:VCALENDAR
VERSION:2.0
PRODID:-//ChamberMaster//Event Calendar 2.0//EN
METHOD:PUBLISH
X-PUBLISHED-TTL:P1H
REFRESH-INTERVAL:P1H
CALSCALE:GREGORIAN
BEGIN:VTIMEZONE
TZID:America/Chicago
BEGIN:DAYLIGHT
RRULE:FREQ=YEARLY;BYMONTH=3;BYDAY=2SU
DTSTART:20070101T000000
TZOFFSETFROM:-0600
TZOFFSETTO:-0500
TZNAME:Central Daylight Time
END:DAYLIGHT
BEGIN:STANDARD
RRULE:FREQ=YEARLY;BYMONTH=11;BYDAY=1SU
DTSTART:20070101T000000
TZOFFSETFROM:-0500
TZOFFSETTO:-0600
TZNAME:Central Standard Time
END:STANDARD
END:VTIMEZONE
BEGIN:VEVENT
DTSTART;TZID=America/Chicago:20260425T170000
DTEND;TZID=America/Chicago:20260425T220000
X-MICROSOFT-CDO-ALLDAYEVENT:FALSE
SUMMARY:Season Kick Start
DESCRIPTION:Weekly racing kicks off with the Mt. Dew Season Kick Start at 34 Raceway\, home of family fun and fast dirt-track racing!  Gates open at 5 PM\, hot laps at 6:15 PM and racing follows.\n\nAdult grandstand admission is $10\, seniors and students $8\, kids under 10 admitted free with paying adult.\n\nFor more information\, follow 34 Raceway on Facebook or visit:\n34raceway.com
X-ALT-DESC;FMTTYPE=text/html:<!DOCTYPE html><html><head><title></title></head><body aria-disabled="false"><p style="text-align: center\;"><br></p><p>Weekly racing kicks off with the Mt. Dew Season Kick Start at 34 Raceway\, home of family fun and fast dirt-track racing! &nbsp\;Gates open at 5 PM\, hot laps at 6:15 PM and racing follows.<br><br>Adult grandstand admission is $10\, seniors and students $8\, kids under 10 admitted free with paying adult.<br style="mso-special-character:line-break\;"><!--[if !supportLineBreakNewLine]--><br style="mso-special-character:line-break\;"><!--[endif]-->For more information\, follow <a fr-original-style="" href="http://facebook.com/34Raceway" rel="noopener noreferrer" style="user-select: auto\;" target="_blank"><span style="color: rgb(44\, 130\, 201)\;">34 Raceway</span></a> on Facebook or visit:<br><span style="color: rgb(44\, 130\, 201)\;"><a fr-original-style="" href="http://34raceway.com" rel="noopener noreferrer" style="user-select: auto\; color: inherit\;" target="_blank">34raceway.com</a></span></p><p><br></p><p><br></p></body></html>
LOCATION:10463 S Prairie Grove Rd West Burlington IA 52655
UID:e.2001.1442003
SEQUENCE:3
DTSTAMP:20260423T162506Z
URL:https://members.greaterburlington.com/eventcalendar/Details/season-kick-start-1707836?sourceTypeId=Hub
END:VEVENT
END:VCALENDAR
