BEGIN:VCALENDAR
VERSION:2.0
PRODID:-//ChamberMaster//Event Calendar 2.0//EN
METHOD:PUBLISH
X-PUBLISHED-TTL:P1H
REFRESH-INTERVAL:P1H
CALSCALE:GREGORIAN
BEGIN:VTIMEZONE
TZID:America/Chicago
BEGIN:DAYLIGHT
RRULE:FREQ=YEARLY;BYMONTH=3;BYDAY=2SU
DTSTART:20070101T000000
TZOFFSETFROM:-0600
TZOFFSETTO:-0500
TZNAME:Central Daylight Time
END:DAYLIGHT
BEGIN:STANDARD
RRULE:FREQ=YEARLY;BYMONTH=11;BYDAY=1SU
DTSTART:20070101T000000
TZOFFSETFROM:-0500
TZOFFSETTO:-0600
TZNAME:Central Standard Time
END:STANDARD
END:VTIMEZONE
BEGIN:VEVENT
DTSTART;VALUE=DATE:20260424
DTEND;VALUE=DATE:20260426
TRANSP:TRANSPARENT
X-MICROSOFT-CDO-ALLDAYEVENT:TRUE
SUMMARY:The Brothers Grimm Spectaculathon
DESCRIPTION:Think you know the Brothers Grimm? Think again!\n\nBurlington High School drama students have a night of twists\, laughs and over-the-top storytelling in store as they mash up every Grimm Brothers fable you think you know into one fast\, funny and wildly imaginative performance!You can attend one (or both!) of two performances:Friday\, April 24 at 7 PM\nSaturday\, April 25 at 7 PM\nSunday\, November 17 at 3 PMAll performances take place in the auditorium at Edward Stone Middle School\, 3000 Mason Road.Tickets\, on sale April 17\, are $12 for adults\, $6 for students\, $5 for children age 5 and under. Tickets can be purchased here.For help purchasing tickets\, call the Burlington Community School District office at 319-753-6791\, or email burlingtoniamusicboosters@gmail.com.For more information\, follow BHS Music Booster Club on Facebook.
X-ALT-DESC;FMTTYPE=text/html:<!DOCTYPE html><html><head><title></title></head><body aria-disabled="false"><p>Think you know the Brothers Grimm? Think again!<br><br>Burlington High School drama students have a night of twists\, laughs and over-the-top storytelling in store as they mash up every Grimm Brothers fable you <em>think</em> you know into one fast\, funny and wildly imaginative performance!</p><p>You can attend one (or both!) of two performances:</p><p style="margin-left: 20px\;">Friday\, April 24 at 7 PM<br>Saturday\, April 25 at 7 PM<br>Sunday\, November 17 at 3 PM</p><p>All performances take place in the auditorium at Edward Stone Middle School\, 3000 Mason Road.</p><p>Tickets\, on sale April 17\, are $12 for adults\, $6 for students\, $5 for children age 5 and under. Tickets can be purchased <a fr-original-style="" href="https://l.facebook.com/l.php?u=https%3A%2F%2Ftickets.gobound.com%2Ftickets%2Fevents%2Fh20251027071614737cd2c0ce779fc42%2Fcheckout%3Ffbclid%3DIwZXh0bgNhZW0CMTAAYnJpZBExS1RaRGdSeXJObEN4VWVaZXNydGMGYXBwX2lkEDIyMjAzOTE3ODgyMDA4OTIAAR5_WWt8YFn_hgzerPjQbDWR0Zw3uLcpsE3h6S1QwZSV7nbLpwpfb-hgARLkew_aem_iSlRq6_k_m6NVNmcytLrcg&h=AT4c616Ozaxpljex5EdBXRrGtY-iH4tFF16UR7jwklUWn3Kifp-vkwd-6VXI8QTun0CR7XRQrPL_h_m4NHnq3e9vRiaRraOyPqwofXtTZB1vpLUjOYWPWc053WeKmHWscogWhAqjMRHA2A&__tn__=-UK-R&c[0]=AT7uHp11FiXd09Pfo5RhT47kZkieKct1AXO4_sY-xYnB3yPErhtBayVh-hbvjmjM0J6yqszeNkK4HdTgq9elqs9dxNto66qhK0cY8f4Dl8wnTcnf6fNWZBWKW5gdpHs7cRmsjVkvTV_7NrNbw-uN53dHSavHg3S8KXTZ8E7ISUrI" rel="noopener noreferrer" style="user-select: auto\;" target="_blank"><span style="color: rgb(44\, 130\, 201)\;">here</span></a>.</p><p><a href="https://gobound.com/ia/schools/burlington/tickets?fbclid=IwY2xjawGd2ZJleHRuA2FlbQIxMAABHbZgMDi2m9KBJ0aP5hF5J3N8KpKPXxnSST2Nua4TsGaPddvnYwcdH6DlLg_aem_b0919fD3nAgIXWFCbAd4Lg" rel="noopener noreferrer" target="_blank" fr-original-style="" style="user-select: auto\;"></a>For help purchasing tickets\, call the Burlington Community School District office at 319-753-6791\, or email <span style="color: rgb(44\, 130\, 201)\;"><a fr-original-style="" href="mailto:burlingtoniamusicboosters@gmail.com" style="user-select: auto\; color: inherit\;">burlingtoniamusicboosters@gmail.com</a></span>.</p><p>For more information\, follow <span style="color: rgb(44\, 130\, 201)\;"><a fr-original-style="" href="https://www.facebook.com/BHSMUSICBOOSTER" rel="noopener noreferrer" style="user-select: auto\; color: inherit\;" target="_blank">BHS Music Booster Club</a></span> on Facebook.</p><p><a href="https://www.burlingtonbythebook.com/" rel="noopener noreferrer" target="_blank" fr-original-style="" style="user-select: auto\;"></a><span style="color: rgb(84\, 172\, 210)\;"><a href="mailto:burlingtoniamusicboosters@gmail.com" fr-original-style="" style="user-select: auto\; color: inherit\;"></a></span></p><p><br></p></body></html>
LOCATION:3000 Mason Road Burlington IA 52601
UID:e.2001.1449512
SEQUENCE:3
DTSTAMP:20260423T164328Z
URL:https://members.greaterburlington.com/eventcalendar/Details/the-brothers-grimm-spectaculathon-1716961?sourceTypeId=Hub
END:VEVENT
END:VCALENDAR
