BEGIN:VCALENDAR
VERSION:2.0
PRODID:-//ChamberMaster//Event Calendar 2.0//EN
METHOD:PUBLISH
X-PUBLISHED-TTL:P1H
REFRESH-INTERVAL:P1H
CALSCALE:GREGORIAN
BEGIN:VTIMEZONE
TZID:America/Chicago
BEGIN:DAYLIGHT
RRULE:FREQ=YEARLY;BYMONTH=3;BYDAY=2SU
DTSTART:20070101T000000
TZOFFSETFROM:-0600
TZOFFSETTO:-0500
TZNAME:Central Daylight Time
END:DAYLIGHT
BEGIN:STANDARD
RRULE:FREQ=YEARLY;BYMONTH=11;BYDAY=1SU
DTSTART:20070101T000000
TZOFFSETFROM:-0500
TZOFFSETTO:-0600
TZNAME:Central Standard Time
END:STANDARD
END:VTIMEZONE
BEGIN:VEVENT
DTSTART;TZID=America/Chicago:20260426T190000
DTEND;TZID=America/Chicago:20260426T211500
X-MICROSOFT-CDO-ALLDAYEVENT:FALSE
SUMMARY:The Silence of the Lambs: 35th Anniversary
DESCRIPTION:It Happened One Night.\nOne Flew Over the Cuckoo's Nest.\nAnd ... The Silence of the Lambs.Only the third - and the most recent - film to win all "Big Five" categories at the Oscars - Best Picture\, Best Director\, best Actor\, Best Actress and Best Screenplay - celebrates 35 years this month with two special screenings at the Capitol.Catch all the horror and suspense of The Silence of the Lambs on the big screen as the Capitol presents two anniversary screenings - April 26 & 29. Tickets are just $8 for adults\, $6 for students and seniors\, online and at the Capitol box office.Full concessions\, including wine and beer\, are available at the Capitol.\n\n\nFor more information\, follow the Capitol Theater on Facebook or visit:burlingtoncapitoltheater.com
X-ALT-DESC;FMTTYPE=text/html:<!DOCTYPE html><html><head><title></title></head><body aria-disabled="false"><p style="text-align: left\;"><em>It Happened One Night</em>.<br><em>One Flew Over the Cuckoo&#39\;s Nest</em>.<br>And ... <em>The Silence of the Lambs</em>.</p><p style="text-align: left\;">Only the third - and the most recent - film to win all &quot\;Big Five&quot\; categories at the Oscars - Best Picture\, Best Director\, best Actor\, Best Actress and Best Screenplay - celebrates 35 years this month with two special screenings at the Capitol.</p><p style="text-align: left\;">Catch all the horror and suspense of <em>The Silence of the Lambs</em> on the big screen as the Capitol presents two anniversary screenings - April 26 &amp\; 29. Tickets are just $8 for adults\, $6 for students and seniors\, online and at the Capitol box office.</p><p style="text-align: left\;">Full concessions\, including wine and beer\, are available at the Capitol.<br style="mso-special-character:  line-break\;"><!--[if !supportLineBreakNewLine]--><br style="mso-special-character:line-break\;"><!--[if !supportLineBreakNewLine]--><br style="mso-special-character:line-break\;"><!--[endif]--><!--[endif]--><!--[endif]-->For more information\, follow the <span style="color: rgb(84\, 172\, 210)\;"><a fr-original-style="" href="https://www.facebook.com/CapitolTheaterBurlingtonIowa" rel="noopener noreferrer" style="user-select: auto\; color: inherit\;" target="_blank">Capitol Theater</a></span> on Facebook or visit:</p><p style="text-align: left\;"><a fr-original-style="" href="http://burlingtoncapitoltheater.com" rel="noopener noreferrer" style="user-select: auto\;" target="_blank"><span style="color: rgb(84\, 172\, 210)\;">burlingtoncapitoltheater.com</span></a></p></body></html>
LOCATION:211 N 3rd St Burlington IA 52601
UID:e.2001.1444771
SEQUENCE:3
DTSTAMP:20260423T164945Z
URL:https://members.greaterburlington.com/eventcalendar/Details/the-silence-of-the-lambs-35th-anniversary-1711173?sourceTypeId=Hub
END:VEVENT
END:VCALENDAR
