BEGIN:VCALENDAR
VERSION:2.0
PRODID:-//ChamberMaster//Event Calendar 2.0//EN
METHOD:PUBLISH
X-PUBLISHED-TTL:P1H
REFRESH-INTERVAL:P1H
CALSCALE:GREGORIAN
BEGIN:VTIMEZONE
TZID:America/Chicago
BEGIN:DAYLIGHT
RRULE:FREQ=YEARLY;BYMONTH=3;BYDAY=2SU
DTSTART:20070101T000000
TZOFFSETFROM:-0600
TZOFFSETTO:-0500
TZNAME:Central Daylight Time
END:DAYLIGHT
BEGIN:STANDARD
RRULE:FREQ=YEARLY;BYMONTH=11;BYDAY=1SU
DTSTART:20070101T000000
TZOFFSETFROM:-0500
TZOFFSETTO:-0600
TZNAME:Central Standard Time
END:STANDARD
END:VTIMEZONE
BEGIN:VEVENT
DTSTART;TZID=America/Chicago:20260509T200000
DTEND;TZID=America/Chicago:20260509T220000
X-MICROSOFT-CDO-ALLDAYEVENT:FALSE
SUMMARY:Tom Garland with Mike Ripple
DESCRIPTION:Burlington's own Mike Ripple joins internationally touring comedian Tom Garland for fall-down-funny stand-up comedy at the Capitol! Tickets are $17 online (fees apply) and at the Capitol box office.Full Concessions\, including wine and beer\, are available at the Capitol.\n\nFor more information\, follow the Capitol on Facebook or visit:burlingtoncapitoltheater.com
X-ALT-DESC;FMTTYPE=text/html:<!DOCTYPE html><html><head><title></title></head><body aria-disabled="false"><p>Burlington&rsquo\;s own Mike Ripple joins internationally touring comedian Tom Garland for fall-down-funny stand-up comedy at the Capitol!&nbsp\;</p><p>Tickets are $17 online (fees apply) and at the Capitol box office.</p><p>Full Concessions\, including wine and beer\, are available at the Capitol.<br style="mso-special-character:line-break\;"><!--[if !supportLineBreakNewLine]--><br style="mso-special-character:line-break\;"><!--[endif]--></p><p>For more information\, follow the<a fr-original-style="" href="http://facebook.com/btowncapitol" rel="noopener noreferrer" style="user-select: auto\;" target="_blank"><span style="color: rgb(61\, 142\, 185)\;">&nbsp\;Capitol</span></a> on Facebook or visit:</p><p><a fr-original-style="" href="http://burlingtoncapitoltheater.com" rel="noopener noreferrer" style="user-select: auto\;" target="_blank"><span style="color: rgb(61\, 142\, 185)\;">burlingtoncapitoltheater.com</span></a></p></body></html>
LOCATION:211 N 3rd St Burlington IA 52601
UID:e.2001.1444852
SEQUENCE:3
DTSTAMP:20260423T164139Z
URL:https://members.greaterburlington.com/eventcalendar/Details/tom-garland-with-mike-ripple-1711270?sourceTypeId=Hub
END:VEVENT
END:VCALENDAR
