BEGIN:VCALENDAR
VERSION:2.0
PRODID:-//ChamberMaster//Event Calendar 2.0//EN
METHOD:PUBLISH
X-PUBLISHED-TTL:P1H
REFRESH-INTERVAL:P1H
CALSCALE:GREGORIAN
BEGIN:VTIMEZONE
TZID:America/Chicago
BEGIN:DAYLIGHT
RRULE:FREQ=YEARLY;BYMONTH=3;BYDAY=2SU
DTSTART:20070101T000000
TZOFFSETFROM:-0600
TZOFFSETTO:-0500
TZNAME:Central Daylight Time
END:DAYLIGHT
BEGIN:STANDARD
RRULE:FREQ=YEARLY;BYMONTH=11;BYDAY=1SU
DTSTART:20070101T000000
TZOFFSETFROM:-0500
TZOFFSETTO:-0600
TZNAME:Central Standard Time
END:STANDARD
END:VTIMEZONE
BEGIN:VEVENT
DTSTART;TZID=America/Chicago:20260429T180000
DTEND;TZID=America/Chicago:20260429T200000
X-MICROSOFT-CDO-ALLDAYEVENT:FALSE
SUMMARY:Tri-State Line Dancing
DESCRIPTION:Whether you're a seasoned dancer or just looking to try something new\, these line dancing sessions are  perfect for all skill levels. Learn all the moves\, from traditional country to contemporary hits\, while having a blast!Lessons from 6 to 8 PM and open dancing afterward. Just $5 at the door.For more information\, find The Washington on Facebook.
X-ALT-DESC;FMTTYPE=text/html:<!DOCTYPE html><html><head><title></title></head><body aria-disabled="false"><p>Whether you&#39\;re a seasoned dancer or just looking to try something new\, these line dancing sessions are &nbsp\;perfect for all skill levels. Learn all the moves\, from traditional country to contemporary hits\, while having a blast!</p><p>Lessons from 6 to 8 PM and open dancing afterward. Just $5 at the door.</p><p>For more information\, find The Washington on Facebook<a href="//thewashingtonmusic.com" fr-original-style="" style="user-select: auto\;"></a>.</p></body></html>
LOCATION:306 Washington St Burlington IA 52601
UID:e.2001.1441991
SEQUENCE:3
DTSTAMP:20260423T161802Z
URL:https://members.greaterburlington.com/eventcalendar/Details/tri-state-line-dancing-1707824?sourceTypeId=Hub
END:VEVENT
END:VCALENDAR
