BEGIN:VCALENDAR
VERSION:2.0
PRODID:-//ChamberMaster//Event Calendar 2.0//EN
METHOD:PUBLISH
X-PUBLISHED-TTL:P1H
REFRESH-INTERVAL:P1H
CALSCALE:GREGORIAN
BEGIN:VTIMEZONE
TZID:America/Chicago
BEGIN:DAYLIGHT
RRULE:FREQ=YEARLY;BYMONTH=3;BYDAY=2SU
DTSTART:20070101T000000
TZOFFSETFROM:-0600
TZOFFSETTO:-0500
TZNAME:Central Daylight Time
END:DAYLIGHT
BEGIN:STANDARD
RRULE:FREQ=YEARLY;BYMONTH=11;BYDAY=1SU
DTSTART:20070101T000000
TZOFFSETFROM:-0500
TZOFFSETTO:-0600
TZNAME:Central Standard Time
END:STANDARD
END:VTIMEZONE
BEGIN:VEVENT
DTSTART;TZID=America/Chicago:20260523T170000
DTEND;TZID=America/Chicago:20260523T220000
X-MICROSOFT-CDO-ALLDAYEVENT:FALSE
SUMMARY:Weekly Racing
DESCRIPTION:Hear that roar on 34? That's the sound of family fun and fast dirt-track racing at Southeast Iowa's premier place to race!General grandstand admission for most events is $10\; students\, veterans & seniors $8\; kids age 10 and under admitted free with paying adult.\nGrandstand opens at 5 PM\, hot laps at 6:15 PM and racing follows.\nFor more information\, follow 34 Raceway on Facebook or visit:34raceway.com
X-ALT-DESC;FMTTYPE=text/html:<!DOCTYPE html><html><head><title></title></head><body aria-disabled="false"><p style="text-align: left\;">Hear that roar on 34? That&#39\;s the sound of family fun and fast dirt-track racing at Southeast Iowa&#39\;s premier place to race!</p><p>General grandstand admission for most events is $10\; students\, veterans &amp\; seniors $8\; kids age 10 and under admitted free with paying adult.</p><p><br style="mso-special-character:line-break\;"><!--[endif]--><!--[endif]-->Grandstand opens at 5 PM\, hot laps at 6:15 PM and racing follows.</p><p><br></p><p>For more information\, follow <span style="color: rgb(84\, 172\, 210)\;"><a fr-original-style="" href="http://facebook.com/34raceway" rel="noopener noreferrer" style="user-select: auto\; color: inherit\;" target="_blank">34 Raceway</a></span> on Facebook or visit:</p><p><span style="color: rgb(84\, 172\, 210)\;"><a fr-original-style="" href="http://34raceway.com" rel="noopener noreferrer" style="user-select: auto\; color: inherit\;" target="_blank">34raceway.com</a></span></p></body></html>
LOCATION:PO Box 293 Middletown IA 52638
UID:e.2001.1445724
SEQUENCE:3
DTSTAMP:20260423T161802Z
URL:https://members.greaterburlington.com/eventcalendar/Details/weekly-racing-1712377?sourceTypeId=Hub
END:VEVENT
END:VCALENDAR
